BEGIN:VCALENDAR
VERSION:2.0
PRODID:-//WIFT-AT - ECPv6.15.20//NONSGML v1.0//EN
CALSCALE:GREGORIAN
METHOD:PUBLISH
X-ORIGINAL-URL:https://wift-at.com
X-WR-CALDESC:Events for WIFT-AT
REFRESH-INTERVAL;VALUE=DURATION:PT1H
X-Robots-Tag:noindex
X-PUBLISHED-TTL:PT1H
BEGIN:VTIMEZONE
TZID:America/Halifax
BEGIN:DAYLIGHT
TZOFFSETFROM:-0400
TZOFFSETTO:-0300
TZNAME:ADT
DTSTART:20240310T060000
END:DAYLIGHT
BEGIN:STANDARD
TZOFFSETFROM:-0300
TZOFFSETTO:-0400
TZNAME:AST
DTSTART:20241103T050000
END:STANDARD
BEGIN:DAYLIGHT
TZOFFSETFROM:-0400
TZOFFSETTO:-0300
TZNAME:ADT
DTSTART:20250309T060000
END:DAYLIGHT
BEGIN:STANDARD
TZOFFSETFROM:-0300
TZOFFSETTO:-0400
TZNAME:AST
DTSTART:20251102T050000
END:STANDARD
BEGIN:DAYLIGHT
TZOFFSETFROM:-0400
TZOFFSETTO:-0300
TZNAME:ADT
DTSTART:20260308T060000
END:DAYLIGHT
BEGIN:STANDARD
TZOFFSETFROM:-0300
TZOFFSETTO:-0400
TZNAME:AST
DTSTART:20261101T050000
END:STANDARD
END:VTIMEZONE
BEGIN:VEVENT
DTSTART;TZID=America/Halifax:20250826T000000
DTEND;TZID=America/Halifax:20250826T235959
DTSTAMP:20260419T131951
CREATED:20250224T204933Z
LAST-MODIFIED:20250224T204934Z
UID:2667-1756166400-1756252799@wift-at.com
SUMMARY:Women's Equality Day
DESCRIPTION:Happy Women’s Equality Day from WIFT-AT!
URL:https://wift-at.com/event/womens-equality-day/
END:VEVENT
BEGIN:VEVENT
DTSTART;TZID=America/Halifax:20250910T000000
DTEND;TZID=America/Halifax:20250917T235959
DTSTAMP:20260419T131951
CREATED:20250224T200936Z
LAST-MODIFIED:20250224T200938Z
UID:2642-1757462400-1758153599@wift-at.com
SUMMARY:Atlantic International Film Festival
DESCRIPTION:https://atlanticfilmfestival.ca/festival
URL:https://wift-at.com/event/atlantic-international-film-festival/
CATEGORIES:Festivals
END:VEVENT
BEGIN:VEVENT
DTSTART;TZID=America/Halifax:20250917T000000
DTEND;TZID=America/Halifax:20250921T235959
DTSTAMP:20260419T131951
CREATED:20250224T201154Z
LAST-MODIFIED:20250224T201156Z
UID:2644-1758067200-1758499199@wift-at.com
SUMMARY:Lunenburg Doc Fest
DESCRIPTION:https://www.lunenburgdocfest.com/
URL:https://wift-at.com/event/lunenburg-doc-fest/
CATEGORIES:Festivals
END:VEVENT
BEGIN:VEVENT
DTSTART;TZID=America/Halifax:20251002T000000
DTEND;TZID=America/Halifax:20251012T235959
DTSTAMP:20260419T131951
CREATED:20250224T210047Z
LAST-MODIFIED:20250224T210048Z
UID:2671-1759363200-1760313599@wift-at.com
SUMMARY:Vancouver International Film Festival
DESCRIPTION:https://viff.org/
URL:https://wift-at.com/event/vancouver-international-film-festival/
CATEGORIES:Festivals
END:VEVENT
BEGIN:VEVENT
DTSTART;TZID=America/Halifax:20251016T000000
DTEND;TZID=America/Halifax:20251019T235959
DTSTAMP:20260419T131951
CREATED:20250224T202450Z
LAST-MODIFIED:20250224T202452Z
UID:2652-1760572800-1760918399@wift-at.com
SUMMARY:Nocturne Halifax
DESCRIPTION:https://nocturnehalifax.ca/
URL:https://wift-at.com/event/nocturne-halifax/
CATEGORIES:Festivals
END:VEVENT
BEGIN:VEVENT
DTSTART;TZID=America/Halifax:20251020T000000
DTEND;TZID=America/Halifax:20251026T235959
DTSTAMP:20260419T131951
CREATED:20250224T202000Z
LAST-MODIFIED:20250224T202003Z
UID:2648-1760918400-1761523199@wift-at.com
SUMMARY:Devour The Food Film Fest
DESCRIPTION:https://devourfest.com/
URL:https://wift-at.com/event/devour-the-food-film-fest/
CATEGORIES:Festivals
END:VEVENT
BEGIN:VEVENT
DTSTART;TZID=America/Halifax:20251106T000000
DTEND;TZID=America/Halifax:20251113T235959
DTSTAMP:20260419T131951
CREATED:20250224T202144Z
LAST-MODIFIED:20250224T202146Z
UID:2650-1762387200-1763078399@wift-at.com
SUMMARY:Silver Wave Film Festival
DESCRIPTION:https://www.swfilmfest.com/
URL:https://wift-at.com/event/silver-wave-film-festival/
CATEGORIES:Festivals
END:VEVENT
END:VCALENDAR