BEGIN:VCALENDAR
VERSION:2.0
PRODID:-//WIFT-AT - ECPv6.15.20//NONSGML v1.0//EN
CALSCALE:GREGORIAN
METHOD:PUBLISH
X-WR-CALNAME:WIFT-AT
X-ORIGINAL-URL:https://wift-at.com
X-WR-CALDESC:Events for WIFT-AT
REFRESH-INTERVAL;VALUE=DURATION:PT1H
X-Robots-Tag:noindex
X-PUBLISHED-TTL:PT1H
BEGIN:VTIMEZONE
TZID:America/Halifax
BEGIN:DAYLIGHT
TZOFFSETFROM:-0400
TZOFFSETTO:-0300
TZNAME:ADT
DTSTART:20240310T060000
END:DAYLIGHT
BEGIN:STANDARD
TZOFFSETFROM:-0300
TZOFFSETTO:-0400
TZNAME:AST
DTSTART:20241103T050000
END:STANDARD
BEGIN:DAYLIGHT
TZOFFSETFROM:-0400
TZOFFSETTO:-0300
TZNAME:ADT
DTSTART:20250309T060000
END:DAYLIGHT
BEGIN:STANDARD
TZOFFSETFROM:-0300
TZOFFSETTO:-0400
TZNAME:AST
DTSTART:20251102T050000
END:STANDARD
BEGIN:DAYLIGHT
TZOFFSETFROM:-0400
TZOFFSETTO:-0300
TZNAME:ADT
DTSTART:20260308T060000
END:DAYLIGHT
BEGIN:STANDARD
TZOFFSETFROM:-0300
TZOFFSETTO:-0400
TZNAME:AST
DTSTART:20261101T050000
END:STANDARD
END:VTIMEZONE
BEGIN:VEVENT
DTSTART;TZID=America/Halifax:20250805T000000
DTEND;TZID=America/Halifax:20250809T235959
DTSTAMP:20260419T132018
CREATED:20250224T203145Z
LAST-MODIFIED:20250224T203147Z
UID:2656-1754352000-1754783999@wift-at.com
SUMMARY:Hold Fast Contemporary Arts Festival
DESCRIPTION:https://easternedge.ca/hold-fast-2025/
URL:https://wift-at.com/event/hold-fast-contemporary-arts-festival/
CATEGORIES:Festivals
END:VEVENT
BEGIN:VEVENT
DTSTART;TZID=America/Halifax:20250801T080000
DTEND;TZID=America/Halifax:20250802T170000
DTSTAMP:20260419T132018
CREATED:20250224T202907Z
LAST-MODIFIED:20250224T202909Z
UID:2654-1754035200-1754154000@wift-at.com
SUMMARY:The River Clyde Pageant
DESCRIPTION:https://riverclydearts.com/pageant
URL:https://wift-at.com/event/the-river-clyde-pageant/
CATEGORIES:Festivals
END:VEVENT
BEGIN:VEVENT
DTSTART;TZID=America/Halifax:20250717T000000
DTEND;TZID=America/Halifax:20250727T235959
DTSTAMP:20260419T132018
CREATED:20250224T205207Z
LAST-MODIFIED:20250224T205209Z
UID:2669-1752710400-1753660799@wift-at.com
SUMMARY:Halifax Pride Festival
DESCRIPTION:https://www.halifaxpride.com/festival-information
URL:https://wift-at.com/event/halifax-pride-festival/
CATEGORIES:Festivals
END:VEVENT
BEGIN:VEVENT
DTSTART;TZID=America/Halifax:20250715T000000
DTEND;TZID=America/Halifax:20250720T235959
DTSTAMP:20260419T132018
CREATED:20250224T203404Z
LAST-MODIFIED:20250224T203406Z
UID:2658-1752537600-1753055999@wift-at.com
SUMMARY:Halifax Jazz Festival
DESCRIPTION:https://www.halifaxjazzfestival.ca/
URL:https://wift-at.com/event/halifax-jazz-festival/
CATEGORIES:Festivals
END:VEVENT
BEGIN:VEVENT
DTSTART;TZID=America/Halifax:20250529T000000
DTEND;TZID=America/Halifax:20250601T235959
DTSTAMP:20260419T132018
CREATED:20250224T200748Z
LAST-MODIFIED:20250224T200750Z
UID:2640-1748476800-1748822399@wift-at.com
SUMMARY:Halifax Independent Filmmakers Festival
DESCRIPTION:https://www.hiff.ca/schedule-1
URL:https://wift-at.com/event/halifax-independent-filmmakers-festival/
CATEGORIES:Festivals
END:VEVENT
BEGIN:VEVENT
DTSTART;TZID=America/Halifax:20250424T080000
DTEND;TZID=America/Halifax:20250504T170000
DTSTAMP:20260419T132018
CREATED:20250224T203640Z
LAST-MODIFIED:20250224T203642Z
UID:2660-1745481600-1746378000@wift-at.com
SUMMARY:Hot Docs
DESCRIPTION:https://hotdocs.ca/festivals/hot-docs-festival
URL:https://wift-at.com/event/hot-docs/
CATEGORIES:Festivals
END:VEVENT
END:VCALENDAR